BEGIN:VCALENDAR
VERSION:2.0
PRODID:-//hacksw/handcal//NONSGML v1.0//EN
BEGIN:VEVENT
DTSTART:20251127T143000Z
DTEND:20251127T173000Z
LOCATION:université de Bordeaux, Campus Bastide, 35 avenue Abadie, 33100 Bordeaux
ORGANIZER;CN=Réseau communautaire:MAILTO:alumni@u-bordeaux.fr
SUMMARY:Festival Bascule(s) #3 - La vie professionnelle comme terrain d'engagement en faveur des transitions
DESCRIPTION:L’université de Bordeaux organise la troisième édition de Bascule(s), un festival pour mettre en lumière et questionner l’engagement des étudiants en faveur des transitions environnementales et...
URL:https://alumni.u-bordeaux.fr/event/festival-bascule-s-3-la-vie-professionnelle-comme-terrain-d-engagement-en-faveur-des-transitions/2025/11/27/136
BEGIN:VALARM
TRIGGER:-P0DT1H0M0S
ACTION:DISPLAY
END:VALARM
END:VEVENT
END:VCALENDAR